BEGIN:VCALENDAR
PRODID:-//eluceo/ical//2.0/EN
VERSION:2.0
CALSCALE:GREGORIAN
BEGIN:VEVENT
UID:987585a7b06b96764c3b16f8c559edb9
DTSTAMP:20260419T204213Z
SUMMARY:The Game Of Life: Changing Perspectives on Poverty
DESCRIPTION:UJA Federation of Greater Toronto\nJewish Toronto Calendar\nhtt
 ps://jewishtoronto.com/calendar/game-of-life\n\nWe invite you to join us o
 n February 29th for an evening of board games and conversation regarding p
 overty within the Jewish community. Our discussion will surround the impor
 tant topic of how we as young adults view poverty\, and how our greater Je
 wish community can provide a collaborative effort to minimize the effects 
 of poverty today and in the future.\n\nWe are privileged to have two power
 ful speakers for the evening:\n\nSandi Pelly: Director\, Capacity Building
  for the Social Services at...
DTSTART;TZID=America/Toronto:20160229T190000
DTEND;TZID=America/Toronto:20160229T220000
END:VEVENT
END:VCALENDAR
