BEGIN:VCALENDAR
PRODID:-//eluceo/ical//2.0/EN
VERSION:2.0
CALSCALE:GREGORIAN
BEGIN:VEVENT
UID:504bb49145ab819205d7b50a62e73e18
DTSTAMP:20260419T222045Z
SUMMARY:Gallery Exhibit: Jewish Music Week Student Art Contest
DESCRIPTION:UJA Federation of Greater Toronto\nJewish Toronto Calendar\nhtt
 ps://jewishtoronto.com/calendar/gallery-exhibit-jewish-music-week-student-
 art-contest-1494605427\n\nSince the start of Jewish Music Week in 2011\, t
 he Student Art Contest has grown to become a significant feature of our fe
 stival. The theme this year was "Jewish Music Throughout History" and hund
 reds of students across the GTA submitted artwork. The results were outsta
 nding and this exhibit features the winners\, finalists and honourable men
 tions.
DTSTART;TZID=America/Toronto:20170527T120000
DTEND;TZID=America/Toronto:20170615T170000
END:VEVENT
END:VCALENDAR
