BEGIN:VCALENDAR
PRODID:-//eluceo/ical//2.0/EN
VERSION:2.0
CALSCALE:GREGORIAN
BEGIN:VEVENT
UID:8fd2bb167f3f418dbe7d003de6d49640
DTSTAMP:20260419T123732Z
SUMMARY:Gallery at the J: Blessing
DESCRIPTION:UJA Federation of Greater Toronto\nJewish Toronto Calendar\nhtt
 ps://jewishtoronto.com/calendar/gallery-at-the-j-blessing-1505935684\n\nTe
 xtile artist Sharon Epstein celebrates her marriage and her enduring love 
 for her late husband by using her exploring the Jewish Chuppah or “canop
 y”.
DTSTART;TZID=America/Toronto:20171004T120000
DTEND;TZID=America/Toronto:20171030T170000
END:VEVENT
END:VCALENDAR
