BEGIN:VCALENDAR
PRODID:-//eluceo/ical//2.0/EN
VERSION:2.0
CALSCALE:GREGORIAN
BEGIN:VEVENT
UID:f4e81a133439320b99c2e2e635aa549a
DTSTAMP:20260421T130833Z
SUMMARY:Gala For Crohn’s & Colitis Canada
DESCRIPTION:UJA Federation of Greater Toronto\nJewish Toronto Calendar\nhtt
 ps://jewishtoronto.com/calendar/gala-for-crohns-colitis-canada\n\nGala For
  Crohn’s & Colitis Canada\n\nVenue:  Universal Event Space  \n    
           6250 Hwy 7\, Vaughan\n\nDate:     May 17\, 2016\n\nCockt
 ails 6:30\, dinner to follow.\n\nAndre Philippe Gagnon\, The Legendary Man
  of 1\,000 Voices will entertain\n\n$600/ticket\n\nWebsite Galas4crohnsand
 colitis.ca/Toronto\n\nContact  Lynda Roth  lroth@crohnsandcolitis.ca 416
  920-035 x 239
DTSTART;TZID=America/Toronto:20160517T183000
DTEND;TZID=America/Toronto:20160517T223000
END:VEVENT
END:VCALENDAR
