BEGIN:VCALENDAR
PRODID:-//eluceo/ical//2.0/EN
VERSION:2.0
CALSCALE:GREGORIAN
BEGIN:VEVENT
UID:8412bb96f7ffa842c56d72734621640b
DTSTAMP:20260421T175626Z
SUMMARY:Gabs Sings Babs!
DESCRIPTION:UJA Federation of Greater Toronto\nJewish Toronto Calendar\nhtt
 ps://jewishtoronto.com/calendar/gabs-sings-babs-1731605368\n\nExperience a
  love letter from one artist to another.\nThe talented Gabi Epstein—fond
 ly known as “Canada’s Barbra Streisand”—takes the stage\, joined b
 y the brilliant Mark Camilleri. In Gabs Sings Babs\, Gabi shares her artis
 tic journey through the timeless songs of Barbra Streisand\, offering a fr
 esh\, intimate take on beloved classics.\n\nEarly Bird Tickets: $40 – on
 ly available until November 17!\nIncludes light refreshments and a chance 
 to meet Gabi after the show.\n\nGet your...
DTSTART;TZID=America/Toronto:20241208T193000
DTEND;TZID=America/Toronto:20241208T220000
END:VEVENT
END:VCALENDAR
