BEGIN:VCALENDAR
PRODID:-//eluceo/ical//2.0/EN
VERSION:2.0
CALSCALE:GREGORIAN
BEGIN:VEVENT
UID:9f1115f11279e4be8ab1577a66faeab3
DTSTAMP:20260422T192946Z
SUMMARY:Fundraiser in memory of Ramona Blinick for Chai Lifeline and CF Can
 ada
DESCRIPTION:UJA Federation of Greater Toronto\nJewish Toronto Calendar\nhtt
 ps://jewishtoronto.com/calendar/fundraiser-in-memory-of-ramona-blinick-for
 -chai-lifeline-and-cf-canada-1506475596\n\nJoin us for a very special nigh
 t to celebrate what would have been Ramona's 40th birthday. All proceeds f
 or the event will go to Chai Lifeline and Cystic Fibrosis Canada
DTSTART;TZID=America/Toronto:20180419T200000
DTEND;TZID=America/Toronto:20180419T220000
END:VEVENT
END:VCALENDAR
