BEGIN:VCALENDAR
PRODID:-//eluceo/ical//2.0/EN
VERSION:2.0
CALSCALE:GREGORIAN
BEGIN:VEVENT
UID:af0fe236dc7d477b5806a578ef4029a4
DTSTAMP:20260424T072849Z
SUMMARY:FSWC Yom HaShaoh Commemoration
DESCRIPTION:UJA Federation of Greater Toronto\nJewish Toronto Calendar\nhtt
 ps://jewishtoronto.com/calendar/fswc-yom-hashaoh-commemoration-1578581291\
 n\nFriends of Simon Wiesenthal Center for Holocaust Studies (FSWC) is a le
 ading human rights educational institution and has won the Canadian Race R
 elations Award for Best Practices.  FSWC is committed to countering all fo
 rms of intolerance while also promoting the principles of social justice a
 nd Canadian democratic values. FSWC is affiliated with the Simon Wiesentha
 l Center\, an international Jewish human rights organization headquartered
  in Los Angeles\, and is an NGO at the United Nations\,...
DTSTART;TZID=America/Toronto:20200421T180000
DTEND;TZID=America/Toronto:20200421T200000
END:VEVENT
END:VCALENDAR
