BEGIN:VCALENDAR
PRODID:-//eluceo/ical//2.0/EN
VERSION:2.0
CALSCALE:GREGORIAN
BEGIN:VEVENT
UID:01df43b889206bfea689309619281cb3
DTSTAMP:20260425T022514Z
SUMMARY:FSWC Whiskey Group
DESCRIPTION:UJA Federation of Greater Toronto\nJewish Toronto Calendar\nhtt
 ps://jewishtoronto.com/calendar/fswc-whiskey-group-1574175524\n\nFSWC Whis
 key Group
DTSTART;TZID=America/Toronto:20200302T200000
DTEND;TZID=America/Toronto:20200302T213000
END:VEVENT
END:VCALENDAR
