BEGIN:VCALENDAR
PRODID:-//eluceo/ical//2.0/EN
VERSION:2.0
CALSCALE:GREGORIAN
BEGIN:VEVENT
UID:d01c3b5771e9921c78149a89dc5397d0
DTSTAMP:20260421T141153Z
SUMMARY:FSWC Voices of Change
DESCRIPTION:UJA Federation of Greater Toronto\nJewish Toronto Calendar\nhtt
 ps://jewishtoronto.com/calendar/fswc-voices-of-change-1734376251\n\nFSWC V
 oices of Change.
DTSTART;TZID=America/Toronto:20250521T180000
DTEND;TZID=America/Toronto:20250521T210000
END:VEVENT
END:VCALENDAR
