BEGIN:VCALENDAR
PRODID:-//eluceo/ical//2.0/EN
VERSION:2.0
CALSCALE:GREGORIAN
BEGIN:VEVENT
UID:5025632a9972481db3a8bc5b120df3b1
DTSTAMP:20260419T193508Z
SUMMARY:FSWC 's Spirit of Hope
DESCRIPTION:UJA Federation of Greater Toronto\nJewish Toronto Calendar\nhtt
 ps://jewishtoronto.com/calendar/fswc-s-spirit-of-hope-1502226863\n\nThe Sp
 irit of Hope Benefit is one of the most iconic fundraising events in the C
 ity of Toronto bringing together top business leaders\, philanthropists\, 
 community and political leaders in a celebration of the rights and freedom
 s championed by Friends of Simon Wiesenthal Center. Past speakers have inc
 luded the late Shimon Peres\, former Prime Minister Stephen Harper\; forme
 r Prime Minister Brian Mulroney\; former Prime Minister of the United King
 dom\, Tony Blair\; President Bill Clinton\; President G...
DTSTART;TZID=America/Toronto:20180530T170000
DTEND;TZID=America/Toronto:20180530T220000
END:VEVENT
END:VCALENDAR
