BEGIN:VCALENDAR
PRODID:-//eluceo/ical//2.0/EN
VERSION:2.0
CALSCALE:GREGORIAN
BEGIN:VEVENT
UID:5eac295d26d47725efa0a3286aec56d2
DTSTAMP:20260422T124413Z
SUMMARY:FSWC International Holocaust Remembrance Day Commemorative Ceremony
DESCRIPTION:UJA Federation of Greater Toronto\nJewish Toronto Calendar\nhtt
 ps://jewishtoronto.com/calendar/fswc-international-holocaust-remembrance-d
 ay-commemorative-ceremony-1640877646\n\nFSWC International Holocaust Remem
 brance Day Commemorative Ceremony
DTSTART;TZID=America/Toronto:20220127T190000
DTEND;TZID=America/Toronto:20220127T203000
END:VEVENT
END:VCALENDAR
