BEGIN:VCALENDAR
PRODID:-//eluceo/ical//2.0/EN
VERSION:2.0
CALSCALE:GREGORIAN
BEGIN:VEVENT
UID:bf83ec6b3531e506f94985f33252b904
DTSTAMP:20260424T095615Z
SUMMARY:FSWC\, Hasbara & Beth Tzedec Event with Ben M. Freeman
DESCRIPTION:UJA Federation of Greater Toronto\nJewish Toronto Calendar\nhtt
 ps://jewishtoronto.com/calendar/fswc-hasbara--beth-tzedec-workshop-on-camp
 us-with-ben-m-freeman-1648221641\n\nTBD
DTSTART;TZID=America/Toronto:20221109T110000
DTEND;TZID=America/Toronto:20221109T140000
END:VEVENT
END:VCALENDAR
