BEGIN:VCALENDAR
PRODID:-//eluceo/ical//2.0/EN
VERSION:2.0
CALSCALE:GREGORIAN
BEGIN:VEVENT
UID:54340995cce87135385f13722b6f7c6b
DTSTAMP:20260420T231506Z
SUMMARY:FSWC Gifts Reception
DESCRIPTION:UJA Federation of Greater Toronto\nJewish Toronto Calendar\nhtt
 ps://jewishtoronto.com/calendar/fswc-gifts-reception-1675715283\n\nFSWC Gi
 fts Reception
DTSTART;TZID=America/Toronto:20230613T180000
DTEND;TZID=America/Toronto:20230614T210000
END:VEVENT
END:VCALENDAR
