BEGIN:VCALENDAR
PRODID:-//eluceo/ical//2.0/EN
VERSION:2.0
CALSCALE:GREGORIAN
BEGIN:VEVENT
UID:6489f3f7a6848ef9c8008388c25bc3de
DTSTAMP:20260421T020422Z
SUMMARY:FSWC Event with Ben Freeman
DESCRIPTION:UJA Federation of Greater Toronto\nJewish Toronto Calendar\nhtt
 ps://jewishtoronto.com/calendar/fswc-event-with-ben-freeman-1647446200\n\n
 TBD
DTSTART;TZID=America/Toronto:20221108T190000
DTEND;TZID=America/Toronto:20221108T210000
END:VEVENT
END:VCALENDAR
