BEGIN:VCALENDAR
PRODID:-//eluceo/ical//2.0/EN
VERSION:2.0
CALSCALE:GREGORIAN
BEGIN:VEVENT
UID:fe01aba36296824c9d22031ee5567ab2
DTSTAMP:20260426T022658Z
SUMMARY:FSWC  International Holocaust Remembrance Day Reception
DESCRIPTION:UJA Federation of Greater Toronto\nJewish Toronto Calendar\nhtt
 ps://jewishtoronto.com/calendar/fswc--international-holocaust-remembrance-
 day-reception-1578326183\n\nFriends of Simon Wiesenthal Center has organiz
 ed this reception to commemorate the first annual International Holocaust 
 Remembrance Day recognized by Toronto City Council.
DTSTART;TZID=America/Toronto:20200127T170000
DTEND;TZID=America/Toronto:20200127T190000
END:VEVENT
END:VCALENDAR
