BEGIN:VCALENDAR
PRODID:-//eluceo/ical//2.0/EN
VERSION:2.0
CALSCALE:GREGORIAN
BEGIN:VEVENT
UID:218b432dcf6e36eb5fa0ab8584aacd66
DTSTAMP:20260423T092351Z
SUMMARY:Frozen Classic Hockey Tournament in support of BAS\, Chai\, and Yad
  Dovid
DESCRIPTION:UJA Federation of Greater Toronto\nJewish Toronto Calendar\nhtt
 ps://jewishtoronto.com/calendar/frozen-classic-hockey-tournament-in-suppor
 t-of-bas-chai-and-yad-dovid-1722278162\n\nAnnual city wide ice hockey tour
 nament in support of three organizations.
DTSTART;TZID=America/Toronto:20250111T190000
DTEND;TZID=America/Toronto:20250112T190000
END:VEVENT
END:VCALENDAR
