BEGIN:VCALENDAR
PRODID:-//eluceo/ical//2.0/EN
VERSION:2.0
CALSCALE:GREGORIAN
BEGIN:VEVENT
UID:378e1c210c16ba2a96a2e34f2d6b57fb
DTSTAMP:20260422T045100Z
SUMMARY:From Past to Future with Professor Stephen Berk
DESCRIPTION:UJA Federation of Greater Toronto\nJewish Toronto Calendar\nhtt
 ps://jewishtoronto.com/calendar/from-past-to-future-with-professor-stephen
 -berk-1463713693\n\nShabbat morning Pulpit Address by Prof. Stephen Berk\n
 Aftermath: 1946 in Europe\, North America and Eretz Yisrael\nQuestion and 
 Answer session follows Kiddush\n\nMay 29\, Sunday morning lecture at 10:00
  AM\nInto the Future: 2016 (America\, Europe\, Israel and the Middle East)
DTSTART;TZID=America/Toronto:20160528T084500
DTEND;TZID=America/Toronto:20160528T130000
END:VEVENT
END:VCALENDAR
