BEGIN:VCALENDAR
PRODID:-//eluceo/ical//2.0/EN
VERSION:2.0
CALSCALE:GREGORIAN
BEGIN:VEVENT
UID:c7e8bb584aa80c78a1a4dca210fa3c5a
DTSTAMP:20260421T025910Z
SUMMARY:Friends of Yiddish presents author\, Michael Wex
DESCRIPTION:UJA Federation of Greater Toronto\nJewish Toronto Calendar\nhtt
 ps://jewishtoronto.com/calendar/friends-of-yiddish-presents-author-michael
 -wex\n\nFriends of Yiddish presents author\, Michael Wex\, on: ‘Pigs\, P
 oultry & Pampers: The Religious Roots of Yiddish’”\n“Famous Toronto 
 author\, Michael Wex\, humorously explains the endearing ironies and parad
 oxes of popular Yiddish expressions.”\n\n\nEvent is Free for Current for
  Members\; Welcome Guests: $10 at door\n\n•        accessible fac
 ility\; two hour program\n•        Refreshments\, Free Parking\, 
 Door Prizes are included\n \n \nPlease RSVP by Wednesday\, October 14...
DTSTART;TZID=America/Toronto:20151018T140000
DTEND;TZID=America/Toronto:20151018T153000
END:VEVENT
END:VCALENDAR
