BEGIN:VCALENDAR
PRODID:-//eluceo/ical//2.0/EN
VERSION:2.0
CALSCALE:GREGORIAN
BEGIN:VEVENT
UID:2339220ee03dc802b6ee4e92fd57f619
DTSTAMP:20260419T131853Z
SUMMARY:Friends of Yiddish Chanukah Hulyanke Concert - Beyond the Paie
DESCRIPTION:UJA Federation of Greater Toronto\nJewish Toronto Calendar\nhtt
 ps://jewishtoronto.com/calendar/friends-of-yiddish-chanukah-hulyanke-conce
 rt-beyond-the-paie\n\n“Friends of Yiddish Chanukah Hulyanke Concert  wi
 th klezmer band\, Beyond the Pale”\n\nDate & Time: Sunday\, November 29
 th at 2:00 pm\n\nVenue:  Beth Tikvah Synagogue Social Hall    \n\n  
             3080 Bayview Ave\; M2N 5L3\n\n​              N
 ORTH of 401 between Sheppard and Finch\n\n              accessible
  facility\; two hour program\n\nRefreshments\, Free Parking\, Lucky Door P
 rizes and Good Friends\n\nEvent is Free for Current FOY Members\; Welcome 
 Guests: ...
DTSTART;TZID=America/Toronto:20151129T140000
DTEND;TZID=America/Toronto:20151129T160000
END:VEVENT
END:VCALENDAR
