BEGIN:VCALENDAR
PRODID:-//eluceo/ical//2.0/EN
VERSION:2.0
CALSCALE:GREGORIAN
BEGIN:VEVENT
UID:24b6cbeae52e7ce87cfa89f83dc830f1
DTSTAMP:20260423T071750Z
SUMMARY:Friends of Yiddish
DESCRIPTION:UJA Federation of Greater Toronto\nJewish Toronto Calendar\nhtt
 ps://jewishtoronto.com/calendar/friends-of-yiddish-1548770660\n\nFriends o
 f Yiddish cordially invites community members to enjoy an entertaining aft
 ernoon of lively literary readings of wonderfully witty and wise short sto
 ries - in Yiddish and English!\nHot beverages\, kichelakh\, door prizes\, 
 and great friends.\nGuests $8\; Current FOY Members free.\nSimply pay at t
 he event entry desk.\n\nPlease RSVP by Tuesday\, February 5th\nEmail to Ve
 lvl: yiddish18@yahoo.ca\nOr\, Phone Lillian: 416 783 3603
DTSTART;TZID=America/Toronto:20190210T140000
DTEND;TZID=America/Toronto:20190210T160000
END:VEVENT
END:VCALENDAR
