BEGIN:VCALENDAR
PRODID:-//eluceo/ical//2.0/EN
VERSION:2.0
CALSCALE:GREGORIAN
BEGIN:VEVENT
UID:d446083523163b2c8f0c24be95fd1ec1
DTSTAMP:20260421T221318Z
SUMMARY:Friends\, Food & Friday Night Lights
DESCRIPTION:UJA Federation of Greater Toronto\nJewish Toronto Calendar\nhtt
 ps://jewishtoronto.com/calendar/friends-food--friday-night-lights-17725623
 37\n\nTo Register: https://www.bethtorahto.ca/form/ypdinner.html
DTSTART;TZID=America/Toronto:20260320T173000
DTEND;TZID=America/Toronto:20260320T220000
END:VEVENT
END:VCALENDAR
