BEGIN:VCALENDAR
PRODID:-//eluceo/ical//2.0/EN
VERSION:2.0
CALSCALE:GREGORIAN
BEGIN:VEVENT
UID:aa5ba0aff326733f735bfe8d6ae53f8c
DTSTAMP:20260419T194932Z
SUMMARY:Friday Night Live and Weekend Scholar Noam Zion on Exploring Pesah
DESCRIPTION:UJA Federation of Greater Toronto\nJewish Toronto Calendar\nhtt
 ps://jewishtoronto.com/calendar/friday-night-live-and-weekend-scholar-noam
 -zion-on-exploring-pesah\n\nBeth Tzedec invites you to a Pre-Pesah Friday 
 Night Live Musical Kabbalat Shabbat Service with Cantor Simon Spiro and th
 e Beth Tzedec Singers at 6:30 pm\, followed by a delicious dinner and lect
 ure with Prof. Noam Zion of the Shalom Hartman Institute.  Dinner by adva
 nce reservation only.\n\nCost $40 adults\, $18 youth (ages 5-14)\, $6 chil
 dren (ages 1-4). Call 416-781-3511 by March 23.\n\nShabbat morning Prof. Z
 ion’s pulpit lecture:  Liberating Your Seder: Dispelling Five Misconcep
 tions of t...
DTSTART;TZID=America/Toronto:20150327T000000
DTEND;TZID=America/Toronto:20150328T000000
END:VEVENT
END:VCALENDAR
