BEGIN:VCALENDAR
PRODID:-//eluceo/ical//2.0/EN
VERSION:2.0
CALSCALE:GREGORIAN
BEGIN:VEVENT
UID:7257e3b5c8afc1a647fba7a80eb62e26
DTSTAMP:20260424T014807Z
SUMMARY:Fri Night Services + Dinner
DESCRIPTION:UJA Federation of Greater Toronto\nJewish Toronto Calendar\nhtt
 ps://jewishtoronto.com/calendar/fri-night-services-dinner\n\nCelebrate Sh
 abbat with spirit!\n\nWind down from the week and welcome Shabbat with s
 oulful\, song-filled services\, in which everyone can participate.\n\nAfte
 r services\, we’ll enjoy a delicious\, vegan Shabbat dinner together\,
  catered by Shalom India. Very limited space\; register now.\n\n$20 fo
 r Adult Dinner Ticket\; $12 for kids 1-10\n(25% off for Makom Members)\n\
 nRegistration Required for dinner by Tues\, Dec 11\n\nhttps://guestli.st
 /584625
DTSTART;TZID=America/Toronto:20181214T180000
DTEND;TZID=America/Toronto:20181214T210000
END:VEVENT
END:VCALENDAR
