BEGIN:VCALENDAR
PRODID:-//eluceo/ical//2.0/EN
VERSION:2.0
CALSCALE:GREGORIAN
BEGIN:VEVENT
UID:904fbd1db8e71f7f0e2a59009ad8c8a7
DTSTAMP:20260423T131951Z
SUMMARY:Freedom\, Justice & Existence: The Ethics of Abraham Joshua Heschel
DESCRIPTION:UJA Federation of Greater Toronto\nJewish Toronto Calendar\nhtt
 ps://jewishtoronto.com/calendar/freedom-justice--existence-the-ethics-of-a
 braham-joshua-heschel-1585080436\n\nFreedom\, Justice & Existence: The Eth
 ics of Abraham Joshua Heschel\nwith Rabbi Zachary Goodman\n\nSunday\, Apri
 l 5 and Monday\, April 6\, 2020\, at 12:00 pm\n\nJoin us here: https://zoo
 m.us/j/837114216\n\nTogether we will be reading\, analyzing and discussing
  a selection of writings by Abraham Joshua Heschel that deal with the conc
 rete problems of our age. As we gear up for a very unique Passover\, this 
 class will leave you with a handful of questions to pose at your virtual s
 eder tables!\n\nhttps:...
DTSTART;TZID=America/Toronto:20200405T120000
DTEND;TZID=America/Toronto:20200405T130000
END:VEVENT
END:VCALENDAR
