BEGIN:VCALENDAR
PRODID:-//eluceo/ical//2.0/EN
VERSION:2.0
CALSCALE:GREGORIAN
BEGIN:VEVENT
UID:01b061c5c182ba6efae69ff285e2e312
DTSTAMP:20260421T232439Z
SUMMARY:free movie Hannah Arendt
DESCRIPTION:UJA Federation of Greater Toronto\nJewish Toronto Calendar\nhtt
 ps://jewishtoronto.com/calendar/free-movie-hannah-arendt-1523043846\n\nFre
 e screening of Hannah Arendt movie (2012). This film centres on the life o
 f German-Jewish philosopher and political theorist Hannah Arendt and her r
 esponse to the 1961 trial of ex-Nazi Adolf Eichmann.
DTSTART;TZID=America/Toronto:20180415T134500
DTEND;TZID=America/Toronto:20180415T154500
END:VEVENT
END:VCALENDAR
