BEGIN:VCALENDAR
PRODID:-//eluceo/ical//2.0/EN
VERSION:2.0
CALSCALE:GREGORIAN
BEGIN:VEVENT
UID:dfa192d39d24d37d401940f69ba22690
DTSTAMP:20260422T204116Z
SUMMARY:Forever Disco
DESCRIPTION:UJA Federation of Greater Toronto\nJewish Toronto Calendar\nhtt
 ps://jewishtoronto.com/calendar/forever-disco-1560954422\n\nHere’s your 
 chance to support 2 great charities on one fabulous night!\n\nReena Founda
 tion and Forever Chai Foundation of Canada are joining together\, on Octob
 er 24\, to host FOREVER DISCO\, a concert featuring KOOL AND THE GANG and 
 GLORIA GAYNOR. They will perform their greatest hits including: Celebratio
 n\, Get Down on It\, I Will Survive & Can’t Take My Eyes Off of You.  \n
 \nReena Foundation and the Forever Chai Foundation of Canada share a commo
 n mission: to provide specialized housing...
DTSTART;TZID=America/Toronto:20191024T190000
DTEND;TZID=America/Toronto:20191024T220000
END:VEVENT
END:VCALENDAR
