BEGIN:VCALENDAR
PRODID:-//eluceo/ical//2.0/EN
VERSION:2.0
CALSCALE:GREGORIAN
BEGIN:VEVENT
UID:2e0e5df9f07ba9089756f20695e925a6
DTSTAMP:20260421T025621Z
SUMMARY:Beth Tzedec - For Every Season for Seniors
DESCRIPTION:UJA Federation of Greater Toronto\nJewish Toronto Calendar\nhtt
 ps://jewishtoronto.com/calendar/for-every-season-for-seniors-1484748821\n\
 nEnjoy rich discussion and a nosh as we create a warm space for learning w
 ith and from each other about the topics that are pertinent to the lives o
 f seniors. No charge. Led by Yacov Fruchter.
DTSTART;TZID=America/Toronto:20170206T133000
DTEND;TZID=America/Toronto:20170206T150000
END:VEVENT
END:VCALENDAR
