BEGIN:VCALENDAR
PRODID:-//eluceo/ical//2.0/EN
VERSION:2.0
CALSCALE:GREGORIAN
BEGIN:VEVENT
UID:5e030edf196b5d090e9dc1e60248d934
DTSTAMP:20260422T133829Z
SUMMARY:For Every Season for Seniors
DESCRIPTION:UJA Federation of Greater Toronto\nJewish Toronto Calendar\nhtt
 ps://jewishtoronto.com/calendar/for-every-season-for-seniors-1452210318\n\
 nJoin Yacov Fruchter for rich discussion and a nosh as we create a warm sp
 ace for learning with and from each other about the topics that are pertin
 ent to the lives of seniors.
DTSTART;TZID=America/Toronto:20160125T133000
DTEND;TZID=America/Toronto:20160125T150000
END:VEVENT
END:VCALENDAR
