BEGIN:VCALENDAR
PRODID:-//eluceo/ical//2.0/EN
VERSION:2.0
CALSCALE:GREGORIAN
BEGIN:VEVENT
UID:67c2c4baaa30d8ab5a4eb51193532713
DTSTAMP:20260424T144930Z
SUMMARY:Food for Thought Seminar - Protecting Seniors from Financial Abuse
DESCRIPTION:UJA Federation of Greater Toronto\nJewish Toronto Calendar\nhtt
 ps://jewishtoronto.com/calendar/food-for-thought-seminar---protecting-seni
 ors-from-financial-abuse-1505314587\n\nEducating and teaching Seniors how 
 to protect themselves and recognize financial dangers. This 5 class series
  of workshops is FREE to seniors and their families.\n\nAll workshops will
  begin at 12 noon with a light lunch in the Fischtein Hall. Following lunc
 h the guest expert will speak\, followed by a question and answer period. 
 All seniors and their families are welcome to these workshops. There is no
  fee for your participation.\n\nTo learn more\, please contact the office 
 at 416.633.3838 for ...
DTSTART;TZID=America/Toronto:20171116T120000
DTEND;TZID=America/Toronto:20171116T140000
END:VEVENT
END:VCALENDAR
