BEGIN:VCALENDAR
PRODID:-//eluceo/ical//2.0/EN
VERSION:2.0
CALSCALE:GREGORIAN
BEGIN:VEVENT
UID:b32477cbf3821faa75e0934d6a3af315
DTSTAMP:20260421T170450Z
SUMMARY:Flying to Freedom - The Journey from Institutionalization in Ontari
 o
DESCRIPTION:UJA Federation of Greater Toronto\nJewish Toronto Calendar\nhtt
 ps://jewishtoronto.com/calendar/flying-to-freedom---the-journey-from-insti
 tutionalization-in-ontario-1548275009\n\nJoin people and organizations fro
 m across the province to commemorate the 2009 closures of the last three g
 overnment-run institutions and discuss the steps being taken to move past 
 institutional practices in the community. They will be various presentatio
 ns of engaging and diverse projects\, a thought-provoking play and a recep
 tion for attendees.\n\n 
DTSTART;TZID=America/Toronto:20190319T140000
DTEND;TZID=America/Toronto:20190319T210000
END:VEVENT
END:VCALENDAR
