BEGIN:VCALENDAR
PRODID:-//eluceo/ical//2.0/EN
VERSION:2.0
CALSCALE:GREGORIAN
BEGIN:VEVENT
UID:9602a706899a410279dbe36f463b5443
DTSTAMP:20260421T234653Z
SUMMARY:First to Stand: The Cases and Causes of Irwin Cotler
DESCRIPTION:UJA Federation of Greater Toronto\nJewish Toronto Calendar\nhtt
 ps://jewishtoronto.com/calendar/first-to-stand-the-cases-and-causes-of-irw
 in-cotler-1673458402\n\nFilmmakers Irene Angelico and Abbey Neidik (Dark L
 ullabies) follow Irwin Cotler and his team of young activists at the Raoul
  Wallenberg Centre as they take on the cases of political prisoners and hu
 man rights activists battling against the world’s most repressive regime
 s.\n\nIn the landmark case of Russian refusenik Natan Sharansky\, Cotler d
 evised a “mobilization of shame” against the human rights violator—e
 ssentially\, a PR blitz against a superpower to convince them that holding
  a po...
DTSTART;TZID=America/Toronto:20230205T163000
DTEND;TZID=America/Toronto:20230207T235500
END:VEVENT
END:VCALENDAR
