BEGIN:VCALENDAR
PRODID:-//eluceo/ical//2.0/EN
VERSION:2.0
CALSCALE:GREGORIAN
BEGIN:VEVENT
UID:504bd2088de9bb418f4c06b0e4d51c9e
DTSTAMP:20260420T153307Z
SUMMARY:First Narayever Book Presentation and Signing
DESCRIPTION:UJA Federation of Greater Toronto\nJewish Toronto Calendar\nhtt
 ps://jewishtoronto.com/calendar/first-narayever-book-presentation-and-sign
 ing-Mar-2\n\nDiscussing works from the Hebrew Bible to "The Jazz Singer" a
 nd "Young Frankenstein"\, and using songs and film clips\, Andrea Most ill
 ustrates how American Jews used theatre to navigate encounters with modern
  culture\, negotiating a position for themselves within and alongside Prot
 estant liberalism by reimagining key aspects of traditional Judaism as the
 atrical. Finalist for the 2013 National Jewish Book Award\, American Jewis
 h Studies. Free event with light refreshments provided.
DTSTART;TZID=America/Toronto:20140302T193000
DTEND;TZID=America/Toronto:20140302T213000
END:VEVENT
END:VCALENDAR
