BEGIN:VCALENDAR
PRODID:-//eluceo/ical//2.0/EN
VERSION:2.0
CALSCALE:GREGORIAN
BEGIN:VEVENT
UID:5886a7a43c804ff13b0206c8ded53c7e
DTSTAMP:20260421T230353Z
SUMMARY:First Narayever Book Presentation and Signing
DESCRIPTION:UJA Federation of Greater Toronto\nJewish Toronto Calendar\nhtt
 ps://jewishtoronto.com/calendar/first-narayever-book-presentation-and-sign
 ing\n\nKenneth Bonert\, "The Lion Seeker". Drawing on Bonert's own family 
 history\, The Lion Seeker is a gritty\, absorbing epic told in lyrical pro
 se\, centred around the efforts of young Isaac Helger to drag his family o
 ut of inner city poverty and reunite them with relatives left behind\, as 
 the terrible threat of war grows ever nearer. Shortlisted for the 2013 Gov
 ernor General's Literary Award for English language fiction. Free event wi
 th light refreshments provided
DTSTART;TZID=America/Toronto:20140223T193000
DTEND;TZID=America/Toronto:20140223T213000
END:VEVENT
END:VCALENDAR
