BEGIN:VCALENDAR
PRODID:-//eluceo/ical//2.0/EN
VERSION:2.0
CALSCALE:GREGORIAN
BEGIN:VEVENT
UID:c92c316846c80a8b2cab6a1f3ffec57e
DTSTAMP:20260423T074150Z
SUMMARY:Finding Home: At the Family Table with Irving Matlow
DESCRIPTION:UJA Federation of Greater Toronto\nJewish Toronto Calendar\nhtt
 ps://jewishtoronto.com/calendar/finding-home-at-the-family-table-with-irvi
 ng-matlow-1600206917\n\nBeth Tzedec Refugee Sponsorship Group presents &qu
 ot\;Finding Home: 3 Book\, 3 Presenters&quot\; all speaking on the importa
 nt of finding our way home. \n\nIn this first session\, Irving Matlow will
  be interviewed by his son David\, speaking about Irving&#039\;s biographi
 cal novel\, &quot\;At the Family Table&quot\;. This session will take plac
 e on Zoom\, and will be available for registered participants to access th
 rough the end of December.\n\nProceeds will help support our sponsorship o
 f an Eritrean refugee family living...
DTSTART;TZID=America/Toronto:20201005T133000
DTEND;TZID=America/Toronto:20201005T150000
END:VEVENT
END:VCALENDAR
