BEGIN:VCALENDAR
PRODID:-//eluceo/ical//2.0/EN
VERSION:2.0
CALSCALE:GREGORIAN
BEGIN:VEVENT
UID:a85c3dc6548b1a8dc91fc5048571de14
DTSTAMP:20260423T165400Z
SUMMARY:Darchei Noam Film Screening: The Windows on Rue Saint-Dominique
DESCRIPTION:UJA Federation of Greater Toronto\nJewish Toronto Calendar\nhtt
 ps://jewishtoronto.com/calendar/film-screening-the-windows-on-rue-saint-do
 minique\n\nScreening of Simcha Shtull's documentary The Windows on rue Sai
 nt-Dominque. 1:15 pm on December13\, 2025 at Congregation Darchei Noam\, 8
 64 Sheppard W.  Q&A with Sara Tauben\, author of Traces of the Past: Montr
 eal's Early Synagogues.
DTSTART;TZID=America/Toronto:20251213T131500
DTEND;TZID=America/Toronto:20251213T143000
END:VEVENT
END:VCALENDAR
