BEGIN:VCALENDAR
PRODID:-//eluceo/ical//2.0/EN
VERSION:2.0
CALSCALE:GREGORIAN
BEGIN:VEVENT
UID:306d1a60c013e06d98c16ac395e6ceb0
DTSTAMP:20260420T204959Z
SUMMARY:Film Night with Martin Himel -  Exposing Anti-Semitism in America
DESCRIPTION:UJA Federation of Greater Toronto\nJewish Toronto Calendar\nhtt
 ps://jewishtoronto.com/calendar/film-night-with-martin-himel----exposing-a
 nti-semitism-in-america-1558909636\n\nFilm Night with Martin Himel - White
  Supremacy and BDS - Exposing Anti-Semitism in America\n\nJoin us for a cr
 ucial look into the topic of anti-Semitism in America. The evening will in
 clude a viewing of Martin Himel's film about anti-Semitism in America from
  his series "Jew-bashing - The New Anti-Semitism" followed by Q&A.\n\n$10 
 admission.\n\nHosted by the Canadian Institute for Jewish Research and Bet
 h David Synagogue.
DTSTART;TZID=America/Toronto:20190606T193000
DTEND;TZID=America/Toronto:20190606T213000
END:VEVENT
END:VCALENDAR
