BEGIN:VCALENDAR
PRODID:-//eluceo/ical//2.0/EN
VERSION:2.0
CALSCALE:GREGORIAN
BEGIN:VEVENT
UID:536ea6b46d3c3a838e926bd2dd92d950
DTSTAMP:20260420T140843Z
SUMMARY:Film & Discussion: Hélène Berr\, une jeune fille dans Paris occup
 é 
DESCRIPTION:UJA Federation of Greater Toronto\nJewish Toronto Calendar\nhtt
 ps://jewishtoronto.com/calendar/film-discussion-hlne-berr-une-jeune-fille-
 dans-paris-occup\n\nPresented by Neuberger Holocaust Education Centre & Al
 liance Francaise Toronto.\n\nNo registration: first-come\, first-served 
 – pay what you can.\n\nJoin us for this special film screening and discu
 ssion with guests Jérome Prieur\, director\, and Michael Marrus\, histor
 ian.\n\nHélène Berr\, a young brilliant Jewish female student of literat
 ure at the Sorbonne University\, lives in Paris during the Nazi occupation
 . She keeps a diary from 1942 till 1944\, wherein she describes the mounti
 ng horro...
DTSTART;TZID=America/Toronto:20150226T190000
DTEND;TZID=America/Toronto:20150226T210000
END:VEVENT
END:VCALENDAR
