BEGIN:VCALENDAR
PRODID:-//eluceo/ical//2.0/EN
VERSION:2.0
CALSCALE:GREGORIAN
BEGIN:VEVENT
UID:2126c55816b385e8e0b7308c5882bc6e
DTSTAMP:20260421T124116Z
SUMMARY:Film Bites featuring The Last Suit
DESCRIPTION:UJA Federation of Greater Toronto\nJewish Toronto Calendar\nhtt
 ps://jewishtoronto.com/calendar/film-bites-featuring-the-last-suit-1672868
 782\n\nJoin us for the international film series with our partner The Toro
 nto Jewish Film Foundation (TJFF). To kick off the series\, we will travel
  to Argentina with the The Last Suit.\n\nCome an hour early and enjoy a ta
 ste of Argentinian cuisine inspired by the film for an additional fee. \n\
 nA selection of three cheese and Argentinian garden empanadas filled with 
 root vegetables\, beans\, corn\, mild jalapenos\, and an authentic dipping
  sauce.  (COR) (4 Empanadas per meal).\n\nAfter the film\, you...
DTSTART;TZID=America/Toronto:20230118T190000
DTEND;TZID=America/Toronto:20230118T210000
END:VEVENT
END:VCALENDAR
