BEGIN:VCALENDAR
PRODID:-//eluceo/ical//2.0/EN
VERSION:2.0
CALSCALE:GREGORIAN
BEGIN:VEVENT
UID:09f2827b806b82f0531b57a6a3e8411d
DTSTAMP:20260426T012016Z
SUMMARY:Fighting Stigma with Effective Storytelling
DESCRIPTION:UJA Federation of Greater Toronto\nJewish Toronto Calendar\nhtt
 ps://jewishtoronto.com/calendar/fighting-stigma-with-effective-storytellin
 g\n\nJDAM: Jewish Disability Advocacy Month\n\nA month of education\, soli
 darity-building\, and empowerment in support of people with disabilities\,
  powered by the Jewish Federations of North America.\n\nThis is an online 
 event. To register: https://www.jewishtogether.org/jdam
DTSTART;TZID=America/Toronto:20210218T200000
DTEND;TZID=America/Toronto:20210218T220000
END:VEVENT
END:VCALENDAR
