BEGIN:VCALENDAR
PRODID:-//eluceo/ical//2.0/EN
VERSION:2.0
CALSCALE:GREGORIAN
BEGIN:VEVENT
UID:4a6b88eba0f931660a37dd5ab295782a
DTSTAMP:20260420T114651Z
SUMMARY:Festival of Lights
DESCRIPTION:UJA Federation of Greater Toronto\nJewish Toronto Calendar\nhtt
 ps://jewishtoronto.com/calendar/festival-of-lights-1446653241\n\nThe theme
  for this year's Festival of Lights is "Music of the Heart" and there will
  be musical and dance performances from each of the communities in attenda
 nce. The evening will start with the cutting of the challah and the motzi 
 and the Jewish community will have a Klezmer Band perform. This event will
  take place in the main atrium of Vaughan City Hall.
DTSTART;TZID=America/Toronto:20151210T190000
DTEND;TZID=America/Toronto:20151210T210000
END:VEVENT
END:VCALENDAR
