BEGIN:VCALENDAR
PRODID:-//eluceo/ical//2.0/EN
VERSION:2.0
CALSCALE:GREGORIAN
BEGIN:VEVENT
UID:8b0c06be2f16c5e7daf9746032cdc300
DTSTAMP:20260422T171338Z
SUMMARY:Federation of Teachers in Hebrew Schools celebrating Israel’s 70t
 h birthday
DESCRIPTION:UJA Federation of Greater Toronto\nJewish Toronto Calendar\nhtt
 ps://jewishtoronto.com/calendar/federation-of-teachers-in-hebrew-schools-c
 elebrating-israels-70th-birthday-1521589137\n\nAn evening of food and fun\
 , all in the name of Jewish education in Toronto and the State of Israel.\
 nCocktails @ 5:30\nDinner @ 6:30
DTSTART;TZID=America/Toronto:20180524T173000
DTEND;TZID=America/Toronto:20180524T235500
END:VEVENT
END:VCALENDAR
