BEGIN:VCALENDAR
PRODID:-//eluceo/ical//2.0/EN
VERSION:2.0
CALSCALE:GREGORIAN
BEGIN:VEVENT
UID:1b07888c17e7ab5fb0d9d1cd237102b8
DTSTAMP:20260420T112836Z
SUMMARY:" 'Fathers and Sons’ Kosher Pickle Factory”
DESCRIPTION:UJA Federation of Greater Toronto\nJewish Toronto Calendar\nhtt
 ps://jewishtoronto.com/calendar/fathers-and-sons-kosher-pickle-factory\n\n
 Join us for some real guys’ fun as the magic formula of Kosher Pickle-ma
 king is revealed in this hands-on activity. That will include making your 
 very own take-home jar of Kosher Dill Pickles! The process is more tricky 
 and complex than you might imagine\; it requires an unusual assortment of 
 ingredients that have to be ordered in advance. If you’d like to attend 
 together with your son (or grandson)\, we need to know ASAP so that everyt
 hing can be properly arranged for your pickling experien...
DTSTART;TZID=America/Toronto:20150114T183000
DTEND;TZID=America/Toronto:20150114T213000
END:VEVENT
END:VCALENDAR
