BEGIN:VCALENDAR
PRODID:-//eluceo/ical//2.0/EN
VERSION:2.0
CALSCALE:GREGORIAN
BEGIN:VEVENT
UID:e5ca81048e86a1eb122c38f9666c8924
DTSTAMP:20260424T161138Z
SUMMARY:Fast of the 17th of Tammuz
DESCRIPTION:UJA Federation of Greater Toronto\nJewish Toronto Calendar\nhtt
 ps://jewishtoronto.com/calendar/fast-of-the-17th-of-tammuz\n\nFast of the 
 17th of Tammuz
DTSTART;TZID=America/Toronto:20150705T000000
DTEND;TZID=America/Toronto:20150705T235900
END:VEVENT
END:VCALENDAR
