BEGIN:VCALENDAR
PRODID:-//eluceo/ical//2.0/EN
VERSION:2.0
CALSCALE:GREGORIAN
BEGIN:VEVENT
UID:e00f45fe49f37112984a4b8020fa6189
DTSTAMP:20260419T235429Z
SUMMARY:Family Time Shanah Tovah
DESCRIPTION:UJA Federation of Greater Toronto\nJewish Toronto Calendar\nhtt
 ps://jewishtoronto.com/calendar/family-time-shanah-tovah-1756315244\n\nCel
 ebrate Rosh Hashanah in style and join us in tasting the sweetness of the 
 New Year with apples and honey.\n\nParents\, Caregivers and children will 
 all have an opportunity to make their own shofar\, and weather permitting 
 we’ll cast off our sins with a tashlich activity in Stacey’s garden.\n
 \nDesigned for Children of all ages the youngest to be accompanied by thei
 r parent(s) / caregivers.\n\nLet Us Know You're Coming - https://rebrand.l
 y/tsc-ftst5786
DTSTART;TZID=America/Toronto:20250923T160000
DTEND;TZID=America/Toronto:20250923T164500
END:VEVENT
END:VCALENDAR
