BEGIN:VCALENDAR
PRODID:-//eluceo/ical//2.0/EN
VERSION:2.0
CALSCALE:GREGORIAN
BEGIN:VEVENT
UID:5ccba864fb01b2c3ca2293c6fd5ed7d3
DTSTAMP:20260421T031805Z
SUMMARY:Family Shabbat Service & Dinner
DESCRIPTION:UJA Federation of Greater Toronto\nJewish Toronto Calendar\nhtt
 ps://jewishtoronto.com/calendar/family-shabbat-service--dinner-1776185102\
 n\nJoin us for a joyful Family Shabbat dinner followed by our Family Shabb
 at Service! Har Zion's Family Service is filled with music\, engaging visu
 als\, and a warm\, kid-friendly spirit that invites everyone to sing\, lea
 rn\, and celebrate Shabbat together.\n\nFor location details\, please emai
 l Alex at arichler@harzion.ca
DTSTART;TZID=America/Toronto:20260501T174500
DTEND;TZID=America/Toronto:20260501T193000
END:VEVENT
END:VCALENDAR
