BEGIN:VCALENDAR
PRODID:-//eluceo/ical//2.0/EN
VERSION:2.0
CALSCALE:GREGORIAN
BEGIN:VEVENT
UID:68ec26dfe599c77b89bfd07f35bd54e9
DTSTAMP:20260419T180026Z
SUMMARY:Family Shabbat Dinner
DESCRIPTION:UJA Federation of Greater Toronto\nJewish Toronto Calendar\nhtt
 ps://jewishtoronto.com/calendar/family-shabbat-dinner-1675189058\n\nCome t
 ogether for a delicious Shabbat dinner and great programming for kids of a
 ll ages. \n\nA young children&#039\;s craft program begins at 5:15 p.m.\, 
 with a lively abridged Kabbalat Shabbat service at 5:45 p.m. followed by a
  delicious Shabbat dinner and programming for kids and adults\, with desse
 rt afterwards. \n\nCost: $70/family. Participants are welcome to join for 
 the craft and service at no cost. RSVPs required\, and registration closes
  on Monday\, February 20th at 11:00 a.m.
DTSTART;TZID=America/Toronto:20230224T171500
DTEND;TZID=America/Toronto:20230224T191500
END:VEVENT
END:VCALENDAR
