BEGIN:VCALENDAR
PRODID:-//eluceo/ical//2.0/EN
VERSION:2.0
CALSCALE:GREGORIAN
BEGIN:VEVENT
UID:c3537dc6b9327b334495fb7920faae99
DTSTAMP:20260419T140528Z
SUMMARY:Family Hanukkah Party!
DESCRIPTION:UJA Federation of Greater Toronto\nJewish Toronto Calendar\nhtt
 ps://jewishtoronto.com/calendar/family-hanukkah-party-1574703954\n\nFun fo
 r the whole family! Join us as we celebrate the end of Shabbat and the upc
 oming holiday lighting Havdalah candles and enjoying fantastic Hanukkah tr
 eats. Wanda&#039\;s Clay will also be joining us to make clay hanukkiyot t
 hat you can bake and use at home.  No charge for admission\, but hanukkiyo
 t being made cost $10 each. RSVPs requested by Thursday\, December 12.
DTSTART;TZID=America/Toronto:20191214T180000
DTEND;TZID=America/Toronto:20191214T193000
END:VEVENT
END:VCALENDAR
