BEGIN:VCALENDAR
PRODID:-//eluceo/ical//2.0/EN
VERSION:2.0
CALSCALE:GREGORIAN
BEGIN:VEVENT
UID:e6676658e30977d9614f5ff8e3cdf9f8
DTSTAMP:20260421T164239Z
SUMMARY:Family Hands On Matzah Making Event
DESCRIPTION:UJA Federation of Greater Toronto\nJewish Toronto Calendar\nhtt
 ps://jewishtoronto.com/calendar/family-hands-on-matzah-making-event-177100
 0332\n\nLearn how to make matzah with us!\n\nRegister here: https://www.be
 by.org/event/matzah
DTSTART;TZID=America/Toronto:20260315T150000
DTEND;TZID=America/Toronto:20260315T163000
END:VEVENT
END:VCALENDAR
