BEGIN:VCALENDAR
PRODID:-//eluceo/ical//2.0/EN
VERSION:2.0
CALSCALE:GREGORIAN
BEGIN:VEVENT
UID:ee3fc84f3790d71d750f73f6dad58dee
DTSTAMP:20260422T010632Z
SUMMARY:Family Event | Hanukkah FUNukkah!
DESCRIPTION:UJA Federation of Greater Toronto\nJewish Toronto Calendar\nhtt
 ps://jewishtoronto.com/calendar/family-event--hanukkah-funukkah-1764108518
 \n\nCelebrate the festival of lights with food\, crafts\, and community! S
 tart with a pizza dinner\, then jump into a variety of activities\, games\
 , treats\, and hands-on holiday crafts!\n\nBring your menorah!\nWe will fi
 nish the evening by lighting our hannukiyot together and singing Hanukkah 
 songs in the sanctuary. Come share the light\, the laughter\, and the FUNu
 kkah!
DTSTART;TZID=America/Toronto:20251216T173000
DTEND;TZID=America/Toronto:20251216T193000
END:VEVENT
END:VCALENDAR
