BEGIN:VCALENDAR
PRODID:-//eluceo/ical//2.0/EN
VERSION:2.0
CALSCALE:GREGORIAN
BEGIN:VEVENT
UID:05302e7f76f6b6f5b99241835f099d55
DTSTAMP:20260422T071101Z
SUMMARY:Family Day - Provincial Holiday
DESCRIPTION:UJA Federation of Greater Toronto\nJewish Toronto Calendar\nhtt
 ps://jewishtoronto.com/calendar/family-day-provincial-holiday\n\nFamily Da
 y is not a national statutory holiday\, it is only observed in Alberta\, M
 anitoba\, Ontario\, Saskatchewan and in British Columbia.
DTSTART;TZID=America/Toronto:20170220T010000
DTEND;TZID=America/Toronto:20170220T235959
END:VEVENT
END:VCALENDAR
